Workbook

Sheet Өрх, хүн амын тоо, дүүргээр
A2: ОРОН СУУЦНЫ БОЛОН СУУЦНЫ ТУСДАА БАЙШИН, ГЭРТ АМЬДАРДАГ ӨРХИЙН СУДАЛГАА, 2022 ОН
A3: 2023 оны 01 сарын 01-ний байдлаар | N3: Улаанбаатар хот
B4: Дүүргийн | E4: Байшин хорооллын | K4: Гэр хорооллын
E5: Нийтийн орон сууцны | G5: Тусдаа тохилог орон сууцны | I5: Орон гэргүй | K5: Тохилог орон сууцанд | M5: Байшинд амьдардаг | O5: Монгол гэрт амьдардаг | Q5: Орон гэргүй
B6: Нэр | C6: Нийт өрхийн тоо | D6: Хүн амын тоо, бүгд | E6: Өрхийн тоо | F6: Хүн амын тоо | G6: Өрхийн тоо | H6: Хүн амын тоо | I6: Өрхийн тоо | J6: Хүн амын тоо | K6: Өрхийн тоо | L6: Хүн амын тоо | M6: Өрхийн тоо | N6: Хүн амын тоо | O6: Өрхийн тоо | P6: Хүн амын тоо | Q6: Өрхийн тоо | R6: Хүн амын тоо
A7: 1 | B7: Багануур | C7: ='Өрх, хүн амын тоо, хороогоор'!C39 -> 8662 | D7: ='Өрх, хүн амын тоо, хороогоор'!D39 -> 29341 | E7: ='Өрх, хүн амын тоо, хороогоор'!E39 -> 3450 | F7: ='Өрх, хүн амын тоо, хороогоор'!F39 -> 11973 | G7: ='Өрх, хүн амын тоо, хороогоор'!G39 -> 120 | H7: ='Өрх, хүн амын тоо, хороогоор'!H39 -> 342 | I7: ='Өрх, хүн амын тоо, хороогоор'!I39 -> 1 | J7: ='Өрх, хүн амын тоо, хороогоор'!J39 -> 1 | ... R7: ='Өрх, хүн амын тоо, хороогоор'!R39 -> 5
A8: 2 | B8: Багахангай | C8: ='Өрх, хүн амын тоо, хороогоор'!C156 -> 1230 | D8: ='Өрх, хүн амын тоо, хороогоор'!D156 -> 4416 | E8: ='Өрх, хүн амын тоо, хороогоор'!E156 -> 769 | F8: ='Өрх, хүн амын тоо, хороогоор'!F156 -> 2734 | G8: ='Өрх, хүн амын тоо, хороогоор'!G156 -> 0 | H8: ='Өрх, хүн амын тоо, хороогоор'!H156 -> 0 | I8: ='Өрх, хүн амын тоо, хороогоор'!I156 -> 1 | J8: ='Өрх, хүн амын тоо, хороогоор'!J156 -> 1 | ... R8: ='Өрх, хүн амын тоо, хороогоор'!R156 -> 1
A9: 3 | B9: Баянгол | C9: ='Өрх, хүн амын тоо, хороогоор'!C152 -> 65543 | D9: ='Өрх, хүн амын тоо, хороогоор'!D152 -> 246886 | E9: ='Өрх, хүн амын тоо, хороогоор'!E152 -> 54369 | F9: ='Өрх, хүн амын тоо, хороогоор'!F152 -> 204095 | G9: ='Өрх, хүн амын тоо, хороогоор'!G152 -> 450 | H9: ='Өрх, хүн амын тоо, хороогоор'!H152 -> 1433 | I9: ='Өрх, хүн амын тоо, хороогоор'!I152 -> 0 | J9: ='Өрх, хүн амын тоо, хороогоор'!J152 -> 0 | ... R9: ='Өрх, хүн амын тоо, хороогоор'!R152 -> 10
A10: 4 | B10: Баянзүрх | C10: ='Өрх, хүн амын тоо, хороогоор'!C84 -> 113245 | D10: ='Өрх, хүн амын тоо, хороогоор'!D84 -> 408797 | E10: ='Өрх, хүн амын тоо, хороогоор'!E84 -> 65583 | F10: ='Өрх, хүн амын тоо, хороогоор'!F84 -> 241461 | G10: ='Өрх, хүн амын тоо, хороогоор'!G84 -> 357 | H10: ='Өрх, хүн амын тоо, хороогоор'!H84 -> 1333 | I10: ='Өрх, хүн амын тоо, хороогоор'!I84 -> 4 | J10: ='Өрх, хүн амын тоо, хороогоор'!J84 -> 9 | ... R10: ='Өрх, хүн амын тоо, хороогоор'!R84 -> 151
A11: 5 | B11: Налайх | C11: ='Өрх, хүн амын тоо, хороогоор'!C94 -> 10510 | D11: ='Өрх, хүн амын тоо, хороогоор'!D94 -> 39579 | E11: ='Өрх, хүн амын тоо, хороогоор'!E94 -> 2888 | F11: ='Өрх, хүн амын тоо, хороогоор'!F94 -> 10083 | G11: ='Өрх, хүн амын тоо, хороогоор'!G94 -> 30 | H11: ='Өрх, хүн амын тоо, хороогоор'!H94 -> 125 | I11: ='Өрх, хүн амын тоо, хороогоор'!I94 -> 0 | J11: ='Өрх, хүн амын тоо, хороогоор'!J94 -> 0 | ... R11: ='Өрх, хүн амын тоо, хороогоор'!R94 -> 2
A12: 6 | B12: Сонгинохайрхан | C12: ='Өрх, хүн амын тоо, хороогоор'!C227 -> 91815 | D12: ='Өрх, хүн амын тоо, хороогоор'!D227 -> 342112 | E12: ='Өрх, хүн амын тоо, хороогоор'!E227 -> 27028 | F12: ='Өрх, хүн амын тоо, хороогоор'!F227 -> 102625 | G12: ='Өрх, хүн амын тоо, хороогоор'!G227 -> 0 | H12: ='Өрх, хүн амын тоо, хороогоор'!H227 -> 0 | I12: ='Өрх, хүн амын тоо, хороогоор'!I227 -> 0 | J12: ='Өрх, хүн амын тоо, хороогоор'!J227 -> 0 | ... R12: ='Өрх, хүн амын тоо, хороогоор'!R227 -> 5
A13: 7 | B13: Сүхбаатар | C13: ='Өрх, хүн амын тоо, хороогоор'!C116 -> 38782 | D13: ='Өрх, хүн амын тоо, хороогоор'!D116 -> 142444 | E13: ='Өрх, хүн амын тоо, хороогоор'!E116 -> 21622 | F13: ='Өрх, хүн амын тоо, хороогоор'!F116 -> 80957 | G13: ='Өрх, хүн амын тоо, хороогоор'!G116 -> 24 | H13: ='Өрх, хүн амын тоо, хороогоор'!H116 -> 87 | I13: ='Өрх, хүн амын тоо, хороогоор'!I116 -> 1 | J13: ='Өрх, хүн амын тоо, хороогоор'!J116 -> 1 | ... R13: ='Өрх, хүн амын тоо, хороогоор'!R116 -> 3
A14: 8 | B14: Хан-Уул | C14: ='Өрх, хүн амын тоо, хороогоор'!C32 -> 63967 | D14: ='Өрх, хүн амын тоо, хороогоор'!D32 -> 238511 | E14: ='Өрх, хүн амын тоо, хороогоор'!E32 -> 43734 | F14: ='Өрх, хүн амын тоо, хороогоор'!F32 -> 165164 | G14: ='Өрх, хүн амын тоо, хороогоор'!G32 -> 935 | H14: ='Өрх, хүн амын тоо, хороогоор'!H32 -> 3341 | I14: ='Өрх, хүн амын тоо, хороогоор'!I32 -> 3 | J14: ='Өрх, хүн амын тоо, хороогоор'!J32 -> 3 | ... R14: ='Өрх, хүн амын тоо, хороогоор'!R32 -> 34
A15: 9 | B15: Чингэлтэй | C15: ='Өрх, хүн амын тоо, хороогоор'!C182 -> 37246 | D15: ='Өрх, хүн амын тоо, хороогоор'!D182 -> 144249 | E15: ='Өрх, хүн амын тоо, хороогоор'!E182 -> 8279 | F15: ='Өрх, хүн амын тоо, хороогоор'!F182 -> 32769 | G15: ='Өрх, хүн амын тоо, хороогоор'!G182 -> 10 | H15: ='Өрх, хүн амын тоо, хороогоор'!H182 -> 41 | I15: ='Өрх, хүн амын тоо, хороогоор'!I182 -> 0 | J15: ='Өрх, хүн амын тоо, хороогоор'!J182 -> 0 | ... R15: ='Өрх, хүн амын тоо, хороогоор'!R182 -> 28
B16: Улаанбаатар | C16: =+SUM(C7:C15) -> 431000 | D16: =+SUM(D7:D15) -> 1596335 | E16: =+SUM(E7:E15) -> 227722 | F16: =+SUM(F7:F15) -> 851861 | G16: =+SUM(G7:G15) -> 1926 | H16: =+SUM(H7:H15) -> 6702 | I16: =+SUM(I7:I15) -> 10 | J16: =+SUM(J7:J15) -> 15 | ... R16: =+SUM(R7:R15) -> 239
D18: Өрхийн тоо | E18: Хүн амын тоо | F18: Өрхийн хувь | G18: Хүн амын хувь
A19: Гэр хороололд амьдарч байгаа | D19: =+K16+M16+O16+Q16 -> 201342 | E19: =+L16+N16+P16+R16 -> 737757 | F19: =+D19*100/C16 -> 46.715081 | G19: =+E19*100/D16 -> 46.215675
A20: Байшин хороололд амьдарч байгаа | D20: =+E16+G16+I16 -> 229658 | E20: =+F16+H16+J16 -> 858578 | F20: =+D20*100/C16 -> 53.284919 | G20: =+E20*100/D16 -> 53.784325
A22: Нийслэлийн Статистикийн Газар
E23: =E16/C16*100 -> 52.835731
E24: =O16/C16*100 -> 20.756148

Sheet Өрх, хүн амын тоо, хороогоор
A1: ОРОН СУУЦНЫ БОЛОН СУУЦНЫ ТУСДАА БАЙШИН, ГЭРТ АМЬДАРДАГ ӨРХИЙН СУДАЛГАА, 2022 ОН
N2: 2023 оны 01 сарын 01-ний байдлаар
A3: Д/д | B3: Хорооны нэр | C3: Нийт өрхийн тоо | D3: Хүн амын тоо, бүгд | E3: байшин хорооллын | K3: гэр хорооллын
E4: нийтийн орон сууцны | G4: тусдаа тохилог орон сууцны | I4: орон гэргүй | K4: тохилог орон сууцанд | M4: байшинд амьдардаг | O4: монгол гэрт амьдардаг | Q4: орон гэргүй
E5: Өрхийн тоо | F5: Хүн амын тоо | G5: Өрхийн тоо | H5: Хүн амын тоо | I5: Өрхийн тоо | J5: Хүн амын тоо | K5: Өрхийн тоо | L5: Хүн амын тоо | M5: Өрхийн тоо | N5: Хүн амын тоо | O5: Өрхийн тоо | P5: Хүн амын тоо | Q5: Өрхийн тоо | R5: Хүн амын тоо
A6: Хан-Уул
A7: 1 | B7: 1-р хороо | C7: 2452 | D7: 11605 | E7: 2448 | F7: 11591 | G7: 4 | H7: 14 | I7: 0 | J7: 0 | K7: 0 | L7: 0 | M7: 0 | N7: 0 | O7: 0 | P7: 0 | Q7: 0 | R7: 0
A8: 2 | B8: 2-р хороо | C8: 3157 | D8: 13575 | E8: 3147 | F8: 13555 | G8: 7 | H8: 17 | I8: 3 | J8: 3 | K8: 0 | L8: 0 | M8: 0 | N8: 0 | O8: 0 | P8: 0 | Q8: 0 | R8: 0
A9: 3 | B9: 3-р хороо | C9: 3956 | D9: 15285 | E9: 3907 | F9: 15122 | G9: 9 | H9: 31 | I9: 0 | J9: 0 | K9: 0 | L9: 0 | M9: 26 | N9: 78 | O9: 14 | P9: 54 | Q9: 0 | R9: 0
A10: 4 | B10: 4-р хороо | C10: 1660 | D10: 6283 | E10: 173 | F10: 606 | G10: 0 | H10: 0 | I10: 0 | J10: 0 | K10: 7 | L10: 24 | M10: 885 | N10: 3415 | O10: 595 | P10: 2238 | Q10: 0 | R10: 0
A11: 5 | B11: 5-р хороо | C11: 1321 | D11: 4964 | E11: 76 | F11: 219 | G11: 0 | H11: 0 | I11: 0 | J11: 0 | K11: 0 | L11: 0 | M11: 911 | N11: 3555 | O11: 334 | P11: 1190 | Q11: 0 | R11: 0
A12: 6 | B12: 6-р хороо | C12: 2064 | D12: 7194 | E12: 386 | F12: 1360 | G12: 0 | H12: 0 | I12: 0 | J12: 0 | K12: 62 | L12: 234 | M12: 1217 | N12: 4084 | O12: 399 | P12: 1514 | Q12: 0 | R12: 2
A13: 7 | B13: 7-р хороо | C13: 1328 | D13: 4497 | E13: 179 | F13: 402 | G13: 0 | H13: 0 | I13: 0 | J13: 0 | K13: 0 | L13: 0 | M13: 818 | N13: 3142 | O13: 331 | P13: 953 | Q13: 0 | R13: 0
A14: 8 | B14: 8-р хороо | C14: 3020 | D14: 11109 | E14: 263 | F14: 756 | G14: 0 | H14: 0 | I14: 0 | J14: 0 | K14: 0 | L14: 0 | M14: 1713 | N14: 7361 | O14: 1040 | P14: 2978 | Q14: 4 | R14: 14
A15: 9 | B15: 9-р хороо | C15: 2268 | D15: 8735 | E15: 0 | F15: 0 | G15: 0 | H15: 0 | I15: 0 | J15: 0 | K15: 13 | L15: 63 | M15: 1068 | N15: 4315 | O15: 1186 | P15: 4356 | Q15: 1 | R15: 1
A16: 10 | B16: 10-р хороо | C16: 2651 | D16: 9918 | E16: 1114 | F16: 4003 | G16: 0 | H16: 0 | I16: 0 | J16: 0 | K16: 1 | L16: 5 | M16: 823 | N16: 3097 | O16: 713 | P16: 2813 | Q16: 0 | R16: 0
A17: 11 | B17: 11-р хороо | C17: 2300 | D17: 9943 | E17: 1986 | F17: 8699 | G17: 51 | H17: 199 | I17: 0 | J17: 0 | K17: 0 | L17: 0 | M17: 81 | N17: 298 | O17: 182 | P17: 747 | Q17: 0 | R17: 0
A18: 12 | B18: 12-р хороо | C18: 1725 | D18: 5913 | E18: 261 | F18: 914 | G18: 0 | H18: 0 | I18: 0 | J18: 0 | K18: 40 | L18: 203 | M18: 918 | N18: 2989 | O18: 506 | P18: 1807 | Q18: 0 | R18: 0
... A31: 25 | B31: 25-р хороо | C31: 2318 | D31: 8070 | E31: 2318 | F31: 8070 | G31: 0 | H31: 0 | I31: 0 | J31: 0 | K31: 0 | L31: 0 | M31: 0 | N31: 0 | O31: 0 | P31: 0 | Q31: 0 | R31: 0
A32: Хан-Уул дүүргийн дүн | C32: 63967 | D32: 238511 | E32: 43734 | F32: 165164 | G32: 935 | H32: 3341 | I32: 3 | J32: 3 | K32: 171 | L32: 710 | M32: 10851 | N32: 40677 | O32: 8259 | P32: 28582 | Q32: 14 | R32: 34
A33: Багануур
A34: 1 | B34: 1-р хороо | C34: 2539 | D34: 8588 | E34: 1727 | F34: 5754 | G34: 110 | H34: 296 | I34: 0 | J34: 0 | K34: 0 | L34: 0 | M34: 236 | N34: 908 | O34: 464 | P34: 1628 | Q34: 2 | R34: 2
A35: 2 | B35: 2-р хороо | C35: 236 | D35: 711 | E35: 0 | F35: 0 | G35: 0 | H35: 0 | I35: 0 | J35: 0 | K35: 0 | L35: 0 | M35: 103 | N35: 315 | O35: 133 | P35: 396 | Q35: 0 | R35: 0
A36: 3 | B36: 3-р хороо | C36: 2261 | D36: 7808 | E36: 1723 | F36: 6219 | G36: 10 | H36: 46 | I36: 1 | J36: 1 | K36: 79 | L36: 385 | M36: 0 | N36: 0 | O36: 447 | P36: 1156 | Q36: 1 | R36: 1
A37: 4 | B37: 4-р хороо | C37: 1678 | D37: 5767 | E37: 0 | F37: 0 | G37: 0 | H37: 0 | I37: 0 | J37: 0 | K37: 19 | L37: 71 | M37: 645 | N37: 2063 | O37: 1012 | P37: 3631 | Q37: 2 | R37: 2
A38: 5 | B38: 5-р хороо | C38: 1948 | D38: 6467 | E38: 0 | F38: 0 | G38: 0 | H38: 0 | I38: 0 | J38: 0 | K38: 37 | L38: 115 | M38: 654 | N38: 2448 | O38: 1257 | P38: 3904 | Q38: 0 | R38: 0
A39: Багануур дүүргийн дүн | C39: 8662 | D39: 29341 | E39: 3450 | F39: 11973 | G39: 120 | H39: 342 | I39: 1 | J39: 1 | K39: 135 | L39: 571 | M39: 1638 | N39: 5734 | O39: 3313 | P39: 10715 | Q39: 5 | R39: 5
A40: Баянзүрх
A41: 1 | B41: 1-р хороо | C41: 2769 | D41: 9754 | E41: 2767 | F41: 9750 | G41: 0 | H41: 0 | I41: 2 | J41: 4 | K41: 0 | L41: 0 | M41: 0 | N41: 0 | O41: 0 | P41: 0 | Q41: 0 | R41: 0
A42: 2 | B42: 2-р хороо | C42: 3345 | D42: 11665 | E42: 608 | F42: 2281 | G42: 123 | H42: 520 | I42: 0 | J42: 0 | K42: 0 | L42: 0 | M42: 1779 | N42: 6324 | O42: 823 | P42: 2505 | Q42: 12 | R42: 35
A43: 3 | B43: 3-р хороо | C43: 2182 | D43: 8914 | E43: 2180 | F43: 8903 | G43: 2 | H43: 11 | I43: 0 | J43: 0 | K43: 0 | L43: 0 | M43: 0 | N43: 0 | O43: 0 | P43: 0 | Q43: 0 | R43: 0
A44: 4 | B44: 4-р хороо | C44: 2908 | D44: 11824 | E44: 2901 | F44: 11800 | G44: 5 | H44: 19 | I44: 2 | J44: 5 | K44: 0 | L44: 0 | M44: 0 | N44: 0 | O44: 0 | P44: 0 | Q44: 0 | R44: 0
A45: 5 | B45: 5-р хороо | C45: 1999 | D45: 7869 | E45: 1728 | F45: 6801 | G45: 4 | H45: 16 | I45: 0 | J45: 0 | K45: 6 | L45: 24 | M45: 141 | N45: 555 | O45: 120 | P45: 473 | Q45: 0 | R45: 0
A46: 6 | B46: 6-р хороо | C46: 2638 | D46: 10304 | E46: 2638 | F46: 10304 | G46: 0 | H46: 0 | I46: 0 | J46: 0 | K46: 0 | L46: 0 | M46: 0 | N46: 0 | O46: 0 | P46: 0 | Q46: 0 | R46: 0
A47: 7 | B47: 7-р хороо | C47: 1822 | D47: 7475 | E47: 1781 | F47: 7337 | G47: 41 | H47: 138 | I47: 0 | J47: 0 | K47: 0 | L47: 0 | M47: 0 | N47: 0 | O47: 0 | P47: 0 | Q47: 0 | R47: 0
A48: 8 | B48: 8-р хороо | C48: 3157 | D48: 11520 | E48: 1872 | F48: 6812 | G48: 22 | H48: 95 | I48: 0 | J48: 0 | K48: 36 | L48: 121 | M48: 628 | N48: 2634 | O48: 595 | P48: 1853 | Q48: 4 | R48: 5
A49: 9 | B49: 9-р хороо | C49: 2215 | D49: 7355 | E49: 99 | F49: 436 | G49: 0 | H49: 0 | I49: 0 | J49: 0 | K49: 0 | L49: 0 | M49: 1755 | N49: 5790 | O49: 361 | P49: 1129 | Q49: 0 | R49: 0
A50: 10 | B50: 10-р хороо | C50: 1879 | D50: 7324 | E50: 511 | F50: 1706 | G50: 0 | H50: 0 | I50: 0 | J50: 0 | K50: 10 | L50: 51 | M50: 646 | N50: 2653 | O50: 712 | P50: 2914 | Q50: 0 | R50: 0
A51: 11 | B51: 11-р хороо | C51: 3249 | D51: 9420 | E51: 366 | F51: 1077 | G51: 0 | H51: 0 | I51: 0 | J51: 0 | K51: 79 | L51: 256 | M51: 1587 | N51: 4475 | O51: 1211 | P51: 3598 | Q51: 6 | R51: 14
A52: 12 | B52: 12-р хороо | C52: 1817 | D52: 7063 | E52: 655 | F52: 2557 | G52: 0 | H52: 0 | I52: 0 | J52: 0 | K52: 0 | L52: 0 | M52: 799 | N52: 3170 | O52: 363 | P52: 1336 | Q52: 0 | R52: 0
...
