Workbook

Sheet Өрх, хүн амын тоо, дүүргээр
A2: ОРОН СУУЦНЫ БОЛОН СУУЦНЫ ТУСДАА БАЙШИН, ГЭРТ АМЬДАРДАГ ӨРХИЙН СУДАЛГАА, 2022 ОН
A3: 2023 оны 01 сарын 01-ний байдлаар | N3: Улаанбаатар хот
B4: Дүүргийн | E4: Байшин хорооллын | K4: Гэр хорооллын
E5: Нийтийн орон сууцны | G5: Тусдаа тохилог орон сууцны | I5: Орон гэргүй | K5: Тохилог орон сууцанд | M5: Байшинд амьдардаг | O5: Монгол гэрт амьдардаг | Q5: Орон гэргүй
B6: Нэр | C6: Нийт өрхийн тоо | D6: Хүн амын тоо, бүгд | E6: Өрхийн тоо | F6: Хүн амын тоо | G6: Өрхийн тоо | H6: Хүн амын тоо | I6: Өрхийн тоо | J6: Хүн амын тоо | K6: Өрхийн тоо | L6: Хүн амын тоо | M6: Өрхийн тоо | N6: Хүн амын тоо | O6: Өрхийн тоо | P6: Хүн амын тоо | Q6: Өрхийн тоо | R6: Хүн амын тоо
A7: 1 | B7: Багануур | C7: ='Өрх, хүн амын тоо, хороогоор'!C39 -> 8662 | D7: ='Өрх, хүн амын тоо, хороогоор'!D39 -> 29341 | E7: ='Өрх, хүн амын тоо, хороогоор'!E39 -> 3450 | F7: ='Өрх, хүн амын тоо, хороогоор'!F39 -> 11973 | G7: ='Өрх, хүн амын тоо, хороогоор'!G39 -> 120 | H7: ='Өрх, хүн амын тоо, хороогоор'!H39 -> 342 | I7: ='Өрх, хүн амын тоо, хороогоор'!I39 -> 1 | J7: ='Өрх, хүн амын тоо, хороогоор'!J39 -> 1 | ... R7: ='Өрх, хүн амын тоо, хороогоор'!R39 -> 5
A8: 2 | B8: Багахангай | C8: ='Өрх, хүн амын тоо, хороогоор'!C156 -> 1230 | D8: ='Өрх, хүн амын тоо, хороогоор'!D156 -> 4416 | E8: ='Өрх, хүн амын тоо, хороогоор'!E156 -> 769 | F8: ='Өрх, хүн амын тоо, хороогоор'!F156 -> 2734 | G8: ='Өрх, хүн амын тоо, хороогоор'!G156 -> 0 | H8: ='Өрх, хүн амын тоо, хороогоор'!H156 -> 0 | I8: ='Өрх, хүн амын тоо, хороогоор'!I156 -> 1 | J8: ='Өрх, хүн амын тоо, хороогоор'!J156 -> 1 | ... R8: ='Өрх, хүн амын тоо, хороогоор'!R156 -> 1
A9: 3 | B9: Баянгол | C9: ='Өрх, хүн амын тоо, хороогоор'!C152 -> 65543 | D9: ='Өрх, хүн амын тоо, хороогоор'!D152 -> 246886 | E9: ='Өрх, хүн амын тоо, хороогоор'!E152 -> 54369 | F9: ='Өрх, хүн амын тоо, хороогоор'!F152 -> 204095 | G9: ='Өрх, хүн амын тоо, хороогоор'!G152 -> 450 | H9: ='Өрх, хүн амын тоо, хороогоор'!H152 -> 1433 | I9: ='Өрх, хүн амын тоо, хороогоор'!I152 -> 0 | J9: ='Өрх, хүн амын тоо, хороогоор'!J152 -> 0 | ... R9: ='Өрх, хүн амын тоо, хороогоор'!R152 -> 10
A10: 4 | B10: Баянзүрх | C10: ='Өрх, хүн амын тоо, хороогоор'!C84 -> 113245 | D10: ='Өрх, хүн амын тоо, хороогоор'!D84 -> 408797 | E10: ='Өрх, хүн амын тоо, хороогоор'!E84 -> 65583 | F10: ='Өрх, хүн амын тоо, хороогоор'!F84 -> 241461 | G10: ='Өрх, хүн амын тоо, хороогоор'!G84 -> 357 | H10: ='Өрх, хүн амын тоо, хороогоор'!H84 -> 1333 | I10: ='Өрх, хүн амын тоо, хороогоор'!I84 -> 4 | J10: ='Өрх, хүн амын тоо, хороогоор'!J84 -> 9 | ... R10: ='Өрх, хүн амын тоо, хороогоор'!R84 -> 151
A11: 5 | B11: Налайх | C11: ='Өрх, хүн амын тоо, хороогоор'!C94 -> 10510 | D11: ='Өрх, хүн амын тоо, хороогоор'!D94 -> 39579 | E11: ='Өрх, хүн амын тоо, хороогоор'!E94 -> 2888 | F11: ='Өрх, хүн амын тоо, хороогоор'!F94 -> 10083 | G11: ='Өрх, хүн амын тоо, хороогоор'!G94 -> 30 | H11: ='Өрх, хүн амын тоо, хороогоор'!H94 -> 125 | I11: ='Өрх, хүн амын тоо, хороогоор'!I94 -> 0 | J11: ='Өрх, хүн амын тоо, хороогоор'!J94 -> 0 | ... R11: ='Өрх, хүн амын тоо, хороогоор'!R94 -> 2
A12: 6 | B12: Сонгинохайрхан | C12: ='Өрх, хүн амын тоо, хороогоор'!C227 -> 91815 | D12: ='Өрх, хүн амын тоо, хороогоор'!D227 -> 342112 | E12: ='Өрх, хүн амын тоо, хороогоор'!E227 -> 27028 | F12: ='Өрх, хүн амын тоо, хороогоор'!F227 -> 102625 | G12: ='Өрх, хүн амын тоо, хороогоор'!G227 -> 0 | H12: ='Өрх, хүн амын тоо, хороогоор'!H227 -> 0 | I12: ='Өрх, хүн амын тоо, хороогоор'!I227 -> 0 | J12: ='Өрх, хүн амын тоо, хороогоор'!J227 -> 0 | ... R12: ='Өрх, хүн амын тоо, хороогоор'!R227 -> 5
A13: 7 | B13: Сүхбаатар | C13: ='Өрх, хүн амын тоо, хороогоор'!C116 -> 38782 | D13: ='Өрх, хүн амын тоо, хороогоор'!D116 -> 142444 | E13: ='Өрх, хүн амын тоо, хороогоор'!E116 -> 21622 | F13: ='Өрх, хүн амын тоо, хороогоор'!F116 -> 80957 | G13: ='Өрх, хүн амын тоо, хороогоор'!G116 -> 24 | H13: ='Өрх, хүн амын тоо, хороогоор'!H116 -> 87 | I13: ='Өрх, хүн амын тоо, хороогоор'!I116 -> 1 | J13: ='Өрх, хүн амын тоо, хороогоор'!J116 -> 1 | ... R13: ='Өрх, хүн амын тоо, хороогоор'!R116 -> 3
A14: 8 | B14: Хан-Уул | C14: ='Өрх, хүн амын тоо, хороогоор'!C32 -> 63967 | D14: ='Өрх, хүн амын тоо, хороогоор'!D32 -> 238511 | E14: ='Өрх, хүн амын тоо, хороогоор'!E32 -> 43734 | F14: ='Өрх, хүн амын тоо, хороогоор'!F32 -> 165164 | G14: ='Өрх, хүн амын тоо, хороогоор'!G32 -> 935 | H14: ='Өрх, хүн амын тоо, хороогоор'!H32 -> 3341 | I14: ='Өрх, хүн амын тоо, хороогоор'!I32 -> 3 | J14: ='Өрх, хүн амын тоо, хороогоор'!J32 -> 3 | ... R14: ='Өрх, хүн амын тоо, хороогоор'!R32 -> 34
A15: 9 | B15: Чингэлтэй | C15: ='Өрх, хүн амын тоо, хороогоор'!C182 -> 37246 | D15: ='Өрх, хүн амын тоо, хороогоор'!D182 -> 144249 | E15: ='Өрх, хүн амын тоо, хороогоор'!E182 -> 8279 | F15: ='Өрх, хүн амын тоо, хороогоор'!F182 -> 32769 | G15: ='Өрх, хүн амын тоо, хороогоор'!G182 -> 10 | H15: ='Өрх, хүн амын тоо, хороогоор'!H182 -> 41 | I15: ='Өрх, хүн амын тоо, хороогоор'!I182 -> 0 | J15: ='Өрх, хүн амын тоо, хороогоор'!J182 -> 0 | ... R15: ='Өрх, хүн амын тоо, хороогоор'!R182 -> 28
B16: Улаанбаатар | C16: =+SUM(C7:C15) -> 431000 | D16: =+SUM(D7:D15) -> 1596335 | E16: =+SUM(E7:E15) -> 227722 | F16: =+SUM(F7:F15) -> 851861 | G16: =+SUM(G7:G15) -> 1926 | H16: =+SUM(H7:H15) -> 6702 | I16: =+SUM(I7:I15) -> 10 | J16: =+SUM(J7:J15) -> 15 | ... R16: =+SUM(R7:R15) -> 239
D18: Өрхийн тоо | E18: Хүн амын тоо | F18: Өрхийн хувь | G18: Хүн амын хувь
A19: Гэр хороололд амьдарч байгаа | D19: =+K16+M16+O16+Q16 -> 201342 | E19: =+L16+N16+P16+R16 -> 737757 | F19: =+D19*100/C16 -> 46.715081 | G19: =+E19*100/D16 -> 46.215675
A20: Байшин хороололд амьдарч байгаа | D20: =+E16+G16+I16 -> 229658 | E20: =+F16+H16+J16 -> 858578 | F20: =+D20*100/C16 -> 53.284919 | G20: =+E20*100/D16 -> 53.784325
A22: Нийслэлийн Статистикийн Газар
E23: =E16/C16*100 -> 52.835731
E24: =O16/C16*100 -> 20.756148

Sheet Өрх, хүн амын тоо, хороогоор
A1: ОРОН СУУЦНЫ БОЛОН СУУЦНЫ ТУСДАА БАЙШИН, ГЭРТ АМЬДАРДАГ ӨРХИЙН СУДАЛГАА, 2022 ОН
N2: 2023 оны 01 сарын 01-ний байдлаар
A3: Д/д | B3: Хорооны нэр | C3: Нийт өрхийн тоо | D3: Хүн амын тоо, бүгд | E3: байшин хорооллын | K3: гэр хорооллын
E4: нийтийн орон сууцны | G4: тусдаа тохилог орон сууцны | I4: орон гэргүй | K4: тохилог орон сууцанд | M4: байшинд амьдардаг | O4: монгол гэрт амьдардаг | Q4: орон гэргүй
E5: Өрхийн тоо | F5: Хүн амын тоо | G5: Өрхийн тоо | H5: Хүн амын тоо | I5: Өрхийн тоо | J5: Хүн амын тоо | K5: Өрхийн тоо | L5: Хүн амын тоо | M5: Өрхийн тоо | N5: Хүн амын тоо | O5: Өрхийн тоо | P5: Хүн амын тоо | Q5: Өрхийн тоо | R5: Хүн амын тоо
A6: Хан-Уул
A7: 1 | B7: 1-р хороо | C7: 2452 | D7: 11605 | E7: 2448 | F7: 11591 | G7: 4 | H7: 14 | I7: 0 | J7: 0 | K7: 0 | L7: 0 | M7: 0 | N7: 0 | O7: 0 | P7: 0 | Q7: 0 | R7: 0
A8: 2 | B8: 2-р хороо | C8: 3157 | D8: 13575 | E8: 3147 | F8: 13555 | G8: 7 | H8: 17 | I8: 3 | J8: 3 | K8: 0 | L8: 0 | M8: 0 | N8: 0 | O8: 0 | P8: 0 | Q8: 0 | R8: 0
A9: 3 | B9: 3-р хороо | C9: 3956 | D9: 15285 | E9: 3907 | F9: 15122 | G9: 9 | H9: 31 | I9: 0 | J9: 0 | K9: 0 | L9: 0 | M9: 26 | N9: 78 | O9: 14 | P9: 54 | Q9: 0 | R9: 0
A10: 4 | B10: 4-р хороо | C10: 1660 | D10: 6283 | E10: 173 | F10: 606 | G10: 0 | H10: 0 | I10: 0 | J10: 0 | K10: 7 | L10: 24 | M10: 885 | N10: 3415 | O10: 595 | P10: 2238 | Q10: 0 | R10: 0
A11: 5 | B11: 5-р хороо | C11: 1321 | D11: 4964 | E11: 76 | F11: 219 | G11: 0 | H11: 0 | I11: 0 | J11: 0 | K11: 0 | L11: 0 | M11: 911 | N11: 3555 | O11: 334 | P11: 1190 | Q11: 0 | R11: 0
A12: 6 | B12: 6-р хороо | C12: 2064 | D12: 7194 | E12: 386 | F12: 1360 | G12: 0 | H12: 0 | I12: 0 | J12: 0 | K12: 62 | L12: 234 | M12: 1217 | N12: 4084 | O12: 399 | P12: 1514 | Q12: 0 | R12: 2
A13: 7 | B13: 7-р хороо | C13: 1328 | D13: 4497 | E13: 179 | F13: 402 | G13: 0 | H13: 0 | I13: 0 | J13: 0 | K13: 0 | L13: 0 | M13: 818 | N13: 3142 | O13: 331 | P13: 953 | Q13: 0 | R13: 0
A14: 8 | B14: 8-р хороо | C14: 3020 | D14: 11109 | E14: 263 | F14: 756 | G14: 0 | H14: 0 | I14: 0 | J14: 0 | K14: 0 | L14: 0 | M14: 1713 | N14: 7361 | O14: 1040 | P14: 2978 | Q14: 4 | R14: 14
A15: 9 | B15: 9-р хороо | C15: 2268 | D15: 8735 | E15: 0 | F15: 0 | G15: 0 | H15: 0 | I15: 0 | J15: 0 | K15: 13 | L15: 63 | M15: 1068 | N15: 4315 | O15: 1186 | P15: 4356 | Q15: 1 | R15: 1
A16: 10 | B16: 10-р хороо | C16: 2651 | D16: 9918 | E16: 1114 | F16: 4003 | G16: 0 | H16: 0 | I16: 0 | J16: 0 | K16: 1 | L16: 5 | M16: 823 | N16: 3097 | O16: 713 | P16: 2813 | Q16: 0 | R16: 0
A17: 11 | B17: 11-р хороо | C17: 2300 | D17: 9943 | E17: 1986 | F17: 8699 | G17: 51 | H17: 199 | I17: 0 | J17: 0 | K17: 0 | L17: 0 | M17: 81 | N17: 298 | O17: 182 | P17: 747 | Q17: 0 | R17: 0
A18: 12 | B18: 12-р хороо | C18: 1725 | D18: 5913 | E18: 261 | F18: 914 | G18: 0 | H18: 0 | I18: 0 | J18: 0 | K18: 40 | L18: 203 | M18: 918 | N18: 2989 | O18: 506 | P18: 1807 | Q18: 0 | R18: 0
... A31: 25 | B31: 25-р хороо | C31: 2318 | D31: 8070 | E31: 2318 | F31: 8070 | G31: 0 | H31: 0 | I31: 0 | J31: 0 | K31: 0 | L31: 0 | M31: 0 | N31: 0 | O31: 0 | P31: 0 | Q31: 0 | R31: 0
A32: Хан-Уул дүүргийн дүн | C32: 63967 | D32: 238511 | E32: 43734 | F32: 165164 | G32: 935 | H32: 3341 | I32: 3 | J32: 3 | K32: 171 | L32: 710 | M32: 10851 | N32: 40677 | O32: 8259 | P32: 28582 | Q32: 14 | R32: 34
A33: Багануур
A34: 1 | B34: 1-р хороо | C34: 2539 | D34: 8588 | E34: 1727 | F34: 5754 | G34: 110 | H34: 296 | I34: 0 | J34: 0 | K34: 0 | L34: 0 | M34: 236 | N34: 908 | O34: 464 | P34: 1628 | Q34: 2 | R34: 2
A35: 2 | B35: 2-р хороо | C35: 236 | D35: 711 | E35: 0 | F35: 0 | G35: 0 | H35: 0 | I35: 0 | J35: 0 | K35: 0 | L35: 0 | M35: 103 | N35: 315 | O35: 133 | P35: 396 | Q35: 0 | R35: 0
A36: 3 | B36: 3-р хороо | C36: 2261 | D36: 7808 | E36: 1723 | F36: 6219 | G36: 10 | H36: 46 | I36: 1 | J36: 1 | K36: 79 | L36: 385 | M36: 0 | N36: 0 | O36: 447 | P36: 1156 | Q36: 1 | R36: 1
A37: 4 | B37: 4-р хороо | C37: 1678 | D37: 5767 | E37: 0 | F37: 0 | G37: 0 | H37: 0 | I37: 0 | J37: 0 | K37: 19 | L37: 71 | M37: 645 | N37: 2063 | O37: 1012 | P37: 3631 | Q37: 2 | R37: 2
A38: 5 | B38: 5-р хороо | C38: 1948 | D38: 6467 | E38: 0 | F38: 0 | G38: 0 | H38: 0 | I38: 0 | J38: 0 | K38: 37 | L38: 115 | M38: 654 | N38: 2448 | O38: 1257 | P38: 3904 | Q38: 0 | R38: 0
A39: Багануур дүүргийн дүн | C39: 8662 | D39: 29341 | E39: 3450 | F39: 11973 | G39: 120 | H39: 342 | I39: 1 | J39: 1 | K39: 135 | L39: 571 | M39: 1638 | N39: 5734 | O39: 3313 | P39: 10715 | Q39: 5 | R39: 5
A40: Баянзүрх
A41: 1 | B41: 1-р хороо | C41: 2769 | D41: 9754 | E41: 2767 | F41: 9750 | G41: 0 | H41: 0 | I41: 2 | J41: 4 | K41: 0 | L41: 0 | M41: 0 | N41: 0 | O41: 0 | P41: 0 | Q41: 0 | R41: 0
A42: 2 | B42: 2-р хороо | C42: 3345 | D42: 11665 | E42: 608 | F42: 2281 | G42: 123 | H42: 520 | I42: 0 | J42: 0 | K42: 0 | L42: 0 | M42: 1779 | N42: 6324 | O42: 823 | P42: 2505 | Q42: 12 | R42: 35
A43: 3 | B43: 3-р хороо | C43: 2182 | D43: 8914 | E43: 2180 | F43: 8903 | G43: 2 | H43: 11 | I43: 0 | J43: 0 | K43: 0 | L43: 0 | M43: 0 | N43: 0 | O43: 0 | P43: 0 | Q43: 0 | R43: 0
A44: 4 | B44: 4-р хороо | C44: 2908 | D44: 11824 | E44: 2901 | F44: 11800 | G44: 5 | H44: 19 | I44: 2 | J44: 5 | K44: 0 | L44: 0 | M44: 0 | N44: 0 | O44: 0 | P44: 0 | Q44: 0 | R44: 0
A45: 5 | B45: 5-р хороо | C45: 1999 | D45: 7869 | E45: 1728 | F45: 6801 | G45: 4 | H45: 16 | I45: 0 | J45: 0 | K45: 6 | L45: 24 | M45: 141 | N45: 555 | O45: 120 | P45: 473 | Q45: 0 | R45: 0
A46: 6 | B46: 6-р хороо | C46: 2638 | D46: 10304 | E46: 2638 | F46: 10304 | G46: 0 | H46: 0 | I46: 0 | J46: 0 | K46: 0 | L46: 0 | M46: 0 | N46: 0 | O46: 0 | P46: 0 | Q46: 0 | R46: 0
A47: 7 | B47: 7-р хороо | C47: 1822 | D47: 7475 | E47: 1781 | F47: 7337 | G47: 41 | H47: 138 | I47: 0 | J47: 0 | K47: 0 | L47: 0 | M47: 0 | N47: 0 | O47: 0 | P47: 0 | Q47: 0 | R47: 0
A48: 8 | B48: 8-р хороо | C48: 3157 | D48: 11520 | E48: 1872 | F48: 6812 | G48: 22 | H48: 95 | I48: 0 | J48: 0 | K48: 36 | L48: 121 | M48: 628 | N48: 2634 | O48: 595 | P48: 1853 | Q48: 4 | R48: 5
A49: 9 | B49: 9-р хороо | C49: 2215 | D49: 7355 | E49: 99 | F49: 436 | G49: 0 | H49: 0 | I49: 0 | J49: 0 | K49: 0 | L49: 0 | M49: 1755 | N49: 5790 | O49: 361 | P49: 1129 | Q49: 0 | R49: 0
A50: 10 | B50: 10-р хороо | C50: 1879 | D50: 7324 | E50: 511 | F50: 1706 | G50: 0 | H50: 0 | I50: 0 | J50: 0 | K50: 10 | L50: 51 | M50: 646 | N50: 2653 | O50: 712 | P50: 2914 | Q50: 0 | R50: 0
A51: 11 | B51: 11-р хороо | C51: 3249 | D51: 9420 | E51: 366 | F51: 1077 | G51: 0 | H51: 0 | I51: 0 | J51: 0 | K51: 79 | L51: 256 | M51: 1587 | N51: 4475 | O51: 1211 | P51: 3598 | Q51: 6 | R51: 14
A52: 12 | B52: 12-р хороо | C52: 1817 | D52: 7063 | E52: 655 | F52: 2557 | G52: 0 | H52: 0 | I52: 0 | J52: 0 | K52: 0 | L52: 0 | M52: 799 | N52: 3170 | O52: 363 | P52: 1336 | Q52: 0 | R52: 0
... A83: 43 | B83: 43-р хороо | C83: 4177 | D83: 14604 | E83: 4177 | F83: 14604 | G83: 0 | H83: 0 | I83: 0 | J83: 0 | K83: 0 | L83: 0 | M83: 0 | N83: 0 | O83: 0 | P83: 0 | Q83: 0 | R83: 0
A84: Баянзүрх дүүргийн дүн | C84: 113245 | D84: 408797 | E84: 65583 | F84: 241461 | G84: 357 | H84: 1333 | I84: 4 | J84: 9 | K84: 590 | L84: 2017 | M84: 25256 | N84: 90353 | O84: 21399 | P84: 73473 | Q84: 56 | R84: 151
A85: Налайх
A86: 1 | B86: 1-р хороо | C86: 1493 | D86: 6121 | E86: 0 | F86: 0 | G86: 0 | H86: 0 | I86: 0 | J86: 0 | K86: 18 | L86: 72 | M86: 726 | N86: 3163 | O86: 748 | P86: 2884 | Q86: 1 | R86: 2
A87: 2 | B87: 2-р хороо | C87: 1104 | D87: 3954 | E87: 1080 | F87: 3868 | G87: 0 | H87: 0 | I87: 0 | J87: 0 | K87: 3 | L87: 7 | M87: 4 | N87: 20 | O87: 17 | P87: 59 | Q87: 0 | R87: 0
A88: 3 | B88: 3-р хороо | C88: 1363 | D88: 5580 | E88: 0 | F88: 0 | G88: 0 | H88: 0 | I88: 0 | J88: 0 | K88: 0 | L88: 0 | M88: 725 | N88: 3126 | O88: 638 | P88: 2454 | Q88: 0 | R88: 0
A89: 4 | B89: 4-р хороо | C89: 1825 | D89: 7256 | E89: 0 | F89: 0 | G89: 0 | H89: 0 | I89: 0 | J89: 0 | K89: 0 | L89: 0 | M89: 1070 | N89: 4485 | O89: 755 | P89: 2771 | Q89: 0 | R89: 0
A90: 5 | B90: 5-р хороо | C90: 1039 | D90: 3546 | E90: 444 | F90: 1564 | G90: 1 | H90: 3 | I90: 0 | J90: 0 | K90: 3 | L90: 3 | M90: 206 | N90: 941 | O90: 385 | P90: 1035 | Q90: 0 | R90: 0
A91: 6 | B91: 6-р хороо | C91: 689 | D91: 1781 | E91: 0 | F91: 0 | G91: 0 | H91: 0 | I91: 0 | J91: 0 | K91: 0 | L91: 0 | M91: 210 | N91: 549 | O91: 479 | P91: 1232 | Q91: 0 | R91: 0
A92: 7 | B92: 7-р хороо | C92: 1524 | D92: 5818 | E92: 460 | F92: 1480 | G92: 0 | H92: 0 | I92: 0 | J92: 0 | K92: 0 | L92: 0 | M92: 461 | N92: 2443 | O92: 603 | P92: 1895 | Q92: 0 | R92: 0
A93: 8 | B93: 8-р хороо | C93: 1473 | D93: 5523 | E93: 904 | F93: 3171 | G93: 29 | H93: 122 | I93: 0 | J93: 0 | K93: 16 | L93: 32 | M93: 177 | N93: 748 | O93: 347 | P93: 1450 | Q93: 0 | R93: 0
A94: Налайх дүүргийн дүн | C94: 10510 | D94: 39579 | E94: 2888 | F94: 10083 | G94: 30 | H94: 125 | I94: 0 | J94: 0 | K94: 40 | L94: 114 | M94: 3579 | N94: 15475 | O94: 3972 | P94: 13780 | Q94: 1 | R94: 2
A95: Сүхбаатар
A96: 1 | B96: 1-р хороо | C96: 2490 | D96: 9042 | E96: 2490 | F96: 9042 | G96: 0 | H96: 0 | I96: 0 | J96: 0 | K96: 0 | L96: 0 | M96: 0 | N96: 0 | O96: 0 | P96: 0 | Q96: 0 | R96: 0
A97: 2 | B97: 2-р хороо | C97: 983 | D97: 3401 | E97: 983 | F97: 3401 | G97: 0 | H97: 0 | I97: 0 | J97: 0 | K97: 0 | L97: 0 | M97: 0 | N97: 0 | O97: 0 | P97: 0 | Q97: 0 | R97: 0
A98: 3 | B98: 3-р хороо | C98: 2283 | D98: 8893 | E98: 2283 | F98: 8893 | G98: 0 | H98: 0 | I98: 0 | J98: 0 | K98: 0 | L98: 0 | M98: 0 | N98: 0 | O98: 0 | P98: 0 | Q98: 0 | R98: 0
A99: 4 | B99: 4-р хороо | C99: 959 | D99: 2885 | E99: 958 | F99: 2884 | G99: 0 | H99: 0 | I99: 1 | J99: 1 | K99: 0 | L99: 0 | M99: 0 | N99: 0 | O99: 0 | P99: 0 | Q99: 0 | R99: 0
A100: 5 | B100: 5-р хороо | C100: 1412 | D100: 5181 | E100: 1412 | F100: 5181 | G100: 0 | H100: 0 | I100: 0 | J100: 0 | K100: 0 | L100: 0 | M100: 0 | N100: 0 | O100: 0 | P100: 0 | Q100: 0 | R100: 0
A101: 6 | B101: 6-р хороо | C101: 1504 | D101: 5321 | E101: 1501 | F101: 5308 | G101: 3 | H101: 13 | I101: 0 | J101: 0 | K101: 0 | L101: 0 | M101: 0 | N101: 0 | O101: 0 | P101: 0 | Q101: 0 | R101: 0
A102: 7 | B102: 7-р хороо | C102: 2444 | D102: 9046 | E102: 2424 | F102: 8981 | G102: 20 | H102: 65 | I102: 0 | J102: 0 | K102: 0 | L102: 0 | M102: 0 | N102: 0 | O102: 0 | P102: 0 | Q102: 0 | R102: 0
A103: 8 | B103: 8-р хороо | C103: 1848 | D103: 7113 | E103: 1848 | F103: 7113 | G103: 0 | H103: 0 | I103: 0 | J103: 0 | K103: 0 | L103: 0 | M103: 0 | N103: 0 | O103: 0 | P103: 0 | Q103: 0 | R103: 0
A104: 9 | B104: 9-р хороо | C104: 1727 | D104: 6912 | E104: 1101 | F104: 4674 | G104: 0 | H104: 0 | I104: 0 | J104: 0 | K104: 0 | L104: 0 | M104: 91 | N104: 389 | O104: 535 | P104: 1849 | Q104: 0 | R104: 0
A105: 10 | B105: 10-р хороо | C105: 2379 | D105: 10069 | E105: 2379 | F105: 10069 | G105: 0 | H105: 0 | I105: 0 | J105: 0 | K105: 0 | L105: 0 | M105: 0 | N105: 0 | O105: 0 | P105: 0 | Q105: 0 | R105: 0
A106: 11 | B106: 11-р хороо | C106: 4514 | D106: 16395 | E106: 4198 | F106: 15317 | G106: 1 | H106: 9 | I106: 0 | J106: 0 | K106: 1 | L106: 6 | M106: 210 | N106: 732 | O106: 104 | P106: 331 | Q106: 0 | R106: 0
A107: 12 | B107: 12-р хороо | C107: 1586 | D107: 6210 | E107: 0 | F107: 0 | G107: 0 | H107: 0 | I107: 0 | J107: 0 | K107: 0 | L107: 0 | M107: 1040 | N107: 4151 | O107: 546 | P107: 2059 | Q107: 0 | R107: 0
... A115: 20 | B115: 20-р хороо | C115: 1515 | D115: 4493 | E115: 0 | F115: 0 | G115: 0 | H115: 0 | I115: 0 | J115: 0 | K115: 232 | L115: 814 | M115: 681 | N115: 1966 | O115: 601 | P115: 1712 | Q115: 1 | R115: 1
A116: Сүхбаатар дүүргийн дүн | C116: 38782 | D116: 142444 | E116: 21622 | F116: 80957 | G116: 24 | H116: 87 | I116: 1 | J116: 1 | K116: 383 | L116: 1308 | M116: 9378 | N116: 35345 | O116: 7371 | P116: 24743 | Q116: 3 | R116: 3
A117: Баянгол
A118: 1 | B118: 1-р хороо | C118: 2704 | D118: 9833 | E118: 2699 | F118: 9823 | G118: 5 | H118: 10 | I118: 0 | J118: 0 | K118: 0 | L118: 0 | M118: 0 | N118: 0 | O118: 0 | P118: 0 | Q118: 0 | R118: 0
A119: 2 | B119: 2-р хороо | C119: 2463 | D119: 9175 | E119: 2456 | F119: 9146 | G119: 7 | H119: 29 | I119: 0 | J119: 0 | K119: 0 | L119: 0 | M119: 0 | N119: 0 | O119: 0 | P119: 0 | Q119: 0 | R119: 0
A120: 3 | B120: 3-р хороо | C120: 1634 | D120: 6551 | E120: 1618 | F120: 6466 | G120: 16 | H120: 85 | I120: 0 | J120: 0 | K120: 0 | L120: 0 | M120: 0 | N120: 0 | O120: 0 | P120: 0 | Q120: 0 | R120: 0
A121: 4 | B121: 4-р хороо | C121: 2038 | D121: 8077 | E121: 2035 | F121: 8061 | G121: 3 | H121: 16 | I121: 0 | J121: 0 | K121: 0 | L121: 0 | M121: 0 | N121: 0 | O121: 0 | P121: 0 | Q121: 0 | R121: 0
A122: 5 | B122: 5-р хороо | C122: 2476 | D122: 9096 | E122: 2476 | F122: 9096 | G122: 0 | H122: 0 | I122: 0 | J122: 0 | K122: 0 | L122: 0 | M122: 0 | N122: 0 | O122: 0 | P122: 0 | Q122: 0 | R122: 0
A123: 6 | B123: 6-р хороо | C123: 3071 | D123: 11068 | E123: 3067 | F123: 11056 | G123: 4 | H123: 12 | I123: 0 | J123: 0 | K123: 0 | L123: 0 | M123: 0 | N123: 0 | O123: 0 | P123: 0 | Q123: 0 | R123: 0
A124: 7 | B124: 7-р хороо | C124: 1602 | D124: 5881 | E124: 1584 | F124: 5822 | G124: 18 | H124: 59 | I124: 0 | J124: 0 | K124: 0 | L124: 0 | M124: 0 | N124: 0 | O124: 0 | P124: 0 | Q124: 0 | R124: 0
A125: 8 | B125: 8-р хороо | C125: 1919 | D125: 7758 | E125: 1918 | F125: 7748 | G125: 1 | H125: 10 | I125: 0 | J125: 0 | K125: 0 | L125: 0 | M125: 0 | N125: 0 | O125: 0 | P125: 0 | Q125: 0 | R125: 0
A126: 9 | B126: 9-р хороо | C126: 2280 | D126: 8067 | E126: 1229 | F126: 4124 | G126: 26 | H126: 132 | I126: 0 | J126: 0 | K126: 0 | L126: 0 | M126: 488 | N126: 1667 | O126: 537 | P126: 2144 | Q126: 0 | R126: 0
A127: 10 | B127: 10-р хороо | C127: 2044 | D127: 8057 | E127: 483 | F127: 1678 | G127: 0 | H127: 0 | I127: 0 | J127: 0 | K127: 0 | L127: 0 | M127: 756 | N127: 3378 | O127: 801 | P127: 2993 | Q127: 4 | R127: 8
A128: 11 | B128: 11-р хороо | C128: 1536 | D128: 6140 | E128: 868 | F128: 3072 | G128: 0 | H128: 0 | I128: 0 | J128: 0 | K128: 2 | L128: 8 | M128: 427 | N128: 2027 | O128: 239 | P128: 1033 | Q128: 0 | R128: 0
A129: 12 | B129: 12-р хороо | C129: 1521 | D129: 5576 | E129: 1519 | F129: 5567 | G129: 0 | H129: 0 | I129: 0 | J129: 0 | K129: 0 | L129: 0 | M129: 0 | N129: 0 | O129: 2 | P129: 9 | Q129: 0 | R129: 0
... A151: 34 | B151: 34-р хороо | C151: 1232 | D151: 4405 | E151: 1232 | F151: 4405 | G151: 0 | H151: 0 | I151: 0 | J151: 0 | K151: 0 | L151: 0 | M151: 0 | N151: 0 | O151: 0 | P151: 0 | Q151: 0 | R151: 0
A152: Баянгол дүүргийн дүн | C152: 65543 | D152: 246886 | E152: 54369 | F152: 204095 | G152: 450 | H152: 1433 | I152: 0 | J152: 0 | K152: 86 | L152: 268 | M152: 5659 | N152: 22066 | O152: 4973 | P152: 19014 | Q152: 6 | R152: 10
A153: Багахангай
A154: 1 | B154: 1-р хороо | C154: 719 | D154: 2503 | E154: 521 | F154: 1838 | G154: 0 | H154: 0 | I154: 1 | J154: 1 | K154: 1 | L154: 2 | M154: 29 | N154: 109 | O154: 166 | P154: 552 | Q154: 1 | R154: 1
A155: 2 | B155: 2-р хороо | C155: 511 | D155: 1913 | E155: 248 | F155: 896 | G155: 0 | H155: 0 | I155: 0 | J155: 0 | K155: 4 | L155: 19 | M155: 80 | N155: 301 | O155: 179 | P155: 697 | Q155: 0 | R155: 0
A156: Багахангай дүүргийн дүн | C156: 1230 | D156: 4416 | E156: 769 | F156: 2734 | G156: 0 | H156: 0 | I156: 1 | J156: 1 | K156: 5 | L156: 21 | M156: 109 | N156: 410 | O156: 345 | P156: 1249 | Q156: 1 | R156: 1
A157: Чингэлтэй
A158: 1 | B158: 1-р хороо | C158: 881 | D158: 3804 | E158: 876 | F158: 3790 | G158: 5 | H158: 14 | I158: 0 | J158: 0 | K158: 0 | L158: 0 | M158: 0 | N158: 0 | O158: 0 | P158: 0 | Q158: 0 | R158: 0
A159: 2 | B159: 2-р хороо | C159: 940 | D159: 3399 | E159: 940 | F159: 3399 | G159: 0 | H159: 0 | I159: 0 | J159: 0 | K159: 0 | L159: 0 | M159: 0 | N159: 0 | O159: 0 | P159: 0 | Q159: 0 | R159: 0
A160: 3 | B160: 3-р хороо | C160: 1571 | D160: 6121 | E160: 1571 | F160: 6121 | G160: 0 | H160: 0 | I160: 0 | J160: 0 | K160: 0 | L160: 0 | M160: 0 | N160: 0 | O160: 0 | P160: 0 | Q160: 0 | R160: 0
A161: 4 | B161: 4-р хороо | C161: 1246 | D161: 5300 | E161: 1241 | F161: 5273 | G161: 5 | H161: 27 | I161: 0 | J161: 0 | K161: 0 | L161: 0 | M161: 0 | N161: 0 | O161: 0 | P161: 0 | Q161: 0 | R161: 0
A162: 5 | B162: 5-р хороо | C162: 1164 | D162: 4626 | E162: 1164 | F162: 4626 | G162: 0 | H162: 0 | I162: 0 | J162: 0 | K162: 0 | L162: 0 | M162: 0 | N162: 0 | O162: 0 | P162: 0 | Q162: 0 | R162: 0
A163: 6 | B163: 6-р хороо | C163: 2367 | D163: 9254 | E163: 2367 | F163: 9254 | G163: 0 | H163: 0 | I163: 0 | J163: 0 | K163: 0 | L163: 0 | M163: 0 | N163: 0 | O163: 0 | P163: 0 | Q163: 0 | R163: 0
A164: 7 | B164: 7-р хороо | C164: 1757 | D164: 6611 | E164: 0 | F164: 0 | G164: 0 | H164: 0 | I164: 0 | J164: 0 | K164: 38 | L164: 185 | M164: 1020 | N164: 4364 | O164: 698 | P164: 2061 | Q164: 1 | R164: 1
A165: 8 | B165: 8-р хороо | C165: 940 | D165: 3658 | E165: 6 | F165: 15 | G165: 0 | H165: 0 | I165: 0 | J165: 0 | K165: 23 | L165: 79 | M165: 675 | N165: 2654 | O165: 235 | P165: 907 | Q165: 1 | R165: 3
A166: 9 | B166: 9-р хороо | C166: 1594 | D166: 6244 | E166: 0 | F166: 0 | G166: 0 | H166: 0 | I166: 0 | J166: 0 | K166: 99 | L166: 277 | M166: 1078 | N166: 4328 | O166: 417 | P166: 1639 | Q166: 0 | R166: 0
A167: 10 | B167: 10-р хороо | C167: 1717 | D167: 7074 | E167: 114 | F167: 291 | G167: 0 | H167: 0 | I167: 0 | J167: 0 | K167: 0 | L167: 0 | M167: 799 | N167: 3502 | O167: 803 | P167: 3279 | Q167: 1 | R167: 2
A168: 11 | B168: 11-р хороо | C168: 1249 | D168: 4863 | E168: 0 | F168: 0 | G168: 0 | H168: 0 | I168: 0 | J168: 0 | K168: 21 | L168: 96 | M168: 879 | N168: 3172 | O168: 348 | P168: 1594 | Q168: 1 | R168: 1
A169: 12 | B169: 12-р хороо | C169: 1627 | D169: 6729 | E169: 0 | F169: 0 | G169: 0 | H169: 0 | I169: 0 | J169: 0 | K169: 0 | L169: 0 | M169: 997 | N169: 4263 | O169: 630 | P169: 2466 | Q169: 0 | R169: 0
... A181: 24 | B181: 24-р хороо | C181: 898 | D181: 2782 | E181: 0 | F181: 0 | G181: 0 | H181: 0 | I181: 0 | J181: 0 | K181: 0 | L181: 0 | M181: 722 | N181: 2111 | O181: 173 | P181: 662 | Q181: 3 | R181: 9
...
